BEGIN:VCALENDAR
VERSION:2.0
PRODID:-//DIGITAL FACTORY//EVENTS MAKER V1.6.14//EN
CALSCALE:GREGORIAN
BEGIN:VEVENT
DTEND:20241214
UID:69e4d3a6def79
DTSTAMP:20260419T130750Z
DESCRIPTION:
URL;VALUE=URI:https://www.distilleriedescamisards.fr/events/event/marche-de-noel-anduze-30-3/
SUMMARY:Marché de Noël (Anduze\, 30)
DTSTART:20241214
END:VEVENT
END:VCALENDAR
