BEGIN:VCALENDAR
VERSION:2.0
PRODID:-//DIGITAL FACTORY//EVENTS MAKER V1.6.14//EN
CALSCALE:GREGORIAN
BEGIN:VEVENT
DTEND:20230430
UID:69e7384f4626d
DTSTAMP:20260421T084151Z
DESCRIPTION:
URL;VALUE=URI:https://www.distilleriedescamisards.fr/events/event/marche-de-portes-30-2/
SUMMARY:Marché de Portes (30)
DTSTART:20230430
END:VEVENT
END:VCALENDAR
